BEGIN:VCALENDAR
VERSION:2.0
CALSCALE:GREGORIAN
PRODID:adamgibbons/ics
METHOD:PUBLISH
X-PUBLISHED-TTL:PT1H
BEGIN:VEVENT
UID:13064@do.basspistol.org
SUMMARY:La Tana della Talpa Edizione: RESISTENZE AL CAPITALISMO
DTSTAMP:20260420T005559Z
DTSTART:20260424T173000Z
DTEND:20260424T213000Z
URL:https://do.basspistol.org/event/la-tana-della-talpa-edizione-resistenze
	-al-capitalismo
LOCATION:Vag61 - Via Paolo Fabbri 110
STATUS:CONFIRMED
CATEGORIES:Vag61,dibattito e disagio,documentari action,doppia proiezione,e
	ntrata libera,popcorn vegan,sedie scomode
END:VEVENT
END:VCALENDAR
